BEGIN:VCALENDAR
PRODID:-//Microsoft Corporation//Outlook 16.0 MIMEDIR//EN
VERSION:2.0
METHOD:REQUEST
X-MS-OLK-FORCEINSPECTOROPEN:TRUE
BEGIN:VTIMEZONE
TZID:Eastern Standard Time
BEGIN:STANDARD
DTSTART:16011104T020000
RRULE:FREQ=YEARLY;BYDAY=1SU;BYMONTH=11
TZOFFSETFROM:-0400
TZOFFSETTO:-0500
END:STANDARD
BEGIN:DAYLIGHT
DTSTART:16010311T020000
RRULE:FREQ=YEARLY;BYDAY=2SU;BYMONTH=3
TZOFFSETFROM:-0500
TZOFFSETTO:-0400
END:DAYLIGHT
END:VTIMEZONE
BEGIN:VEVENT
ATTENDEE;CN="Michel, Brenda";RSVP=TRUE:mailto:bmichel@library.ohio.gov
ATTENDEE;CN="Brown, Nicole";RSVP=TRUE:mailto:nbrown@library.ohio.gov
ATTENDEE;CN="Hill, Rebecca";RSVP=TRUE:mailto:rhill@library.ohio.gov
ATTENDEE;CN="Clark, Paula";RSVP=TRUE:mailto:pclark@library.ohio.gov
ATTENDEE;CN="Miller, Heather";RSVP=TRUE:mailto:HMiller@library.ohio.gov
CLASS:PUBLIC
CREATED:20250731T123721Z
DESCRIPTION: \n\n__________________________________________________________
	______________________\n\nMicrosoft Teams Need help? <https://aka.ms/JoinT
	eamsMeeting?omkt=en-US>  \n\nJoin the meeting now <https://teams.microsoft
	.com/l/meetup-join/19%3ameeting_MGVkNDVkZDYtMjc2YS00MzgxLWJjYWQtMTNjOTAyMW
	YwYzIz%40thread.v2/0?context=%7b%22Tid%22%3a%2250f8fcc4-94d8-4f07-84eb-36e
	d57c7c8a2%22%2c%22Oid%22%3a%22cd941aef-17e7-4e1c-8ea4-8de53274beab%22%7d> 
	 \n\nMeeting ID: 231 117 967 301 5 \n\nPasscode: t8wJ7vr7 \n\n____________
	____________________\n\nDial in by phone \n\n+1 614-721-2972\,\,356364381#
	 <tel:+16147212972\,\,356364381>  United States\, Columbus \n\nFind a loca
	l number <https://dialin.teams.microsoft.com/fd500fcf-3501-48c9-a727-e83e3
	2f1d295?id=356364381>  \n\nPhone conference ID: 356 364 381# \n\nJoin on a
	 video conferencing device \n\nTenant key: 682042763@t.plcm.vc \n\nVideo I
	D: 119 931 949 7 \n\nMore info <https://dialin.plcm.vc/teams/?key=68204276
	3&conf=1199319497>  \n\nFor organizers: Meeting options <https://teams.mic
	rosoft.com/meetingOptions/?organizerId=cd941aef-17e7-4e1c-8ea4-8de53274bea
	b&tenantId=50f8fcc4-94d8-4f07-84eb-36ed57c7c8a2&threadId=19_meeting_MGVkND
	VkZDYtMjc2YS00MzgxLWJjYWQtMTNjOTAyMWYwYzIz@thread.v2&messageId=0&language=
	en-US>  | Reset dial-in PIN <https://dialin.teams.microsoft.com/usp/pstnco
	nferencing>  \n\nThe State of Ohio is a disability inclusion state. We pro
	mote access to our meetings and trainings. To request a reasonable accommo
	dation due to a disability\, please use the Help link to contact the ADA C
	oordinator for the scheduling agency.\n\nOrg help <https://das.ohio.gov/em
	ployee-relations/diversity-equity-and-inclusion/ADA-coordinators-directory
	>  \n\n___________________________________________________________________
	_____________\n\n \n\n
DTEND;TZID="Eastern Standard Time":20250806T113000
DTSTAMP:20250710T154215Z
DTSTART;TZID="Eastern Standard Time":20250806T103000
LAST-MODIFIED:20250731T123721Z
LOCATION:Microsoft Teams Meeting
ORGANIZER;CN="Miley, Jay":mailto:JMiley@library.ohio.gov
PRIORITY:5
SEQUENCE:0
SUMMARY;LANGUAGE=en-us:Open Office Hour
TRANSP:OPAQUE
UID:040000008200E00074C5B7101A82E008000000002079599F8FF1DB01000000000000000
	010000000EB6B7E7A035EC24BA425255A78144038
X-ALT-DESC;FMTTYPE=text/html:<html xmlns:v="urn:schemas-microsoft-com:vml" 
	xmlns:o="urn:schemas-microsoft-com:office:office" xmlns:w="urn:schemas-mic
	rosoft-com:office:word" xmlns:m="http://schemas.microsoft.com/office/2004/
	12/omml" xmlns="http://www.w3.org/TR/REC-html40"><head><meta name=Generato
	r content="Microsoft Word 15 (filtered medium)"><!--[if !mso]><style>v\\:*
	 {behavior:url(#default#VML)\;}\no\\:* {behavior:url(#default#VML)\;}\nw\\
	:* {behavior:url(#default#VML)\;}\n.shape {behavior:url(#default#VML)\;}\n
	</style><![endif]--><style><!--\n/* Font Definitions */\n@font-face\n	{fon
	t-family:"Cambria Math"\;\n	panose-1:2 4 5 3 5 4 6 3 2 4\;}\n@font-face\n	
	{font-family:Aptos\;}\n@font-face\n	{font-family:"Segoe UI"\;\n	panose-1:2
	 11 5 2 4 2 4 2 2 3\;}\n/* Style Definitions */\np.MsoNormal\, li.MsoNorma
	l\, div.MsoNormal\n	{margin:0in\;\n	font-size:12.0pt\;\n	font-family:"Apto
	s"\,sans-serif\;\n	mso-ligatures:standardcontextual\;}\na:link\, span.MsoH
	yperlink\n	{mso-style-priority:99\;\n	color:#467886\;\n	text-decoration:un
	derline\;}\nspan.EmailStyle17\n	{mso-style-type:personal-compose\;\n	font-
	family:"Aptos"\,sans-serif\;\n	color:windowtext\;}\nspan.me-email-text\n	{
	mso-style-name:me-email-text\;}\nspan.me-email-text-secondary\n	{mso-style
	-name:me-email-text-secondary\;}\nspan.me-email-headline\n	{mso-style-name
	:me-email-headline\;}\n.MsoChpDefault\n	{mso-style-type:export-only\;}\n@p
	age WordSection1\n	{size:8.5in 11.0in\;\n	margin:1.0in 1.0in 1.0in 1.0in\;
	}\ndiv.WordSection1\n	{page:WordSection1\;}\n--></style><!--[if gte mso 9]
	><xml>\n<o:shapedefaults v:ext="edit" spidmax="1026" />\n</xml><![endif]--
	><!--[if gte mso 9]><xml>\n<o:shapelayout v:ext="edit">\n<o:idmap v:ext="e
	dit" data="1" />\n</o:shapelayout></xml><![endif]--></head><body lang=EN-U
	S link="#467886" vlink="#96607D" style='word-wrap:break-word'><div class=W
	ordSection1><p class=MsoNormal><span style='font-size:11.0pt'><o:p>&nbsp\;
	</o:p></span></p><div><div style='margin-bottom:.25in\;overflow:hidden'><p
	 class=MsoNormal><span style='font-family:"Segoe UI"\,sans-serif\;color:#2
	42424'>___________________________________________________________________
	_____________<span style='mso-ligatures:none'><o:p></o:p></span></span></p
	></div><div style='margin-bottom:9.0pt'><p class=MsoNormal><span class=me-
	email-text><b><span style='font-size:18.0pt\;font-family:"Segoe UI"\,sans-
	serif\;color:#242424'>Microsoft Teams</span></b></span><span style='font-f
	amily:"Segoe UI"\,sans-serif\;color:#242424'> <a href="https://aka.ms/Join
	TeamsMeeting?omkt=en-US"><span style='font-size:10.5pt\;color:#5B5FC7'>Nee
	d help?</span></a> <o:p></o:p></span></p></div><div style='margin-bottom:4
	.5pt'><p class=MsoNormal><span style='font-family:"Segoe UI"\,sans-serif\;
	color:#242424'><a href="https://teams.microsoft.com/l/meetup-join/19%3amee
	ting_MGVkNDVkZDYtMjc2YS00MzgxLWJjYWQtMTNjOTAyMWYwYzIz%40thread.v2/0?contex
	t=%7b%22Tid%22%3a%2250f8fcc4-94d8-4f07-84eb-36ed57c7c8a2%22%2c%22Oid%22%3a
	%22cd941aef-17e7-4e1c-8ea4-8de53274beab%22%7d" target="_blank" title="Meet
	ing join link"><b><span style='font-size:15.0pt\;color:#5B5FC7'>Join the m
	eeting now</span></b></a> <o:p></o:p></span></p></div><div style='margin-b
	ottom:4.5pt'><p class=MsoNormal><span class=me-email-text-secondary><span 
	style='font-size:10.5pt\;font-family:"Segoe UI"\,sans-serif\;color:#616161
	'>Meeting ID: </span></span><span class=me-email-text><span style='font-si
	ze:10.5pt\;font-family:"Segoe UI"\,sans-serif\;color:#242424'>231 117 967 
	301 5</span></span><span style='font-family:"Segoe UI"\,sans-serif\;color:
	#242424'> <o:p></o:p></span></p></div><div style='margin-bottom:.25in'><p 
	class=MsoNormal><span class=me-email-text-secondary><span style='font-size
	:10.5pt\;font-family:"Segoe UI"\,sans-serif\;color:#616161'>Passcode: </sp
	an></span><span class=me-email-text><span style='font-size:10.5pt\;font-fa
	mily:"Segoe UI"\,sans-serif\;color:#242424'>t8wJ7vr7</span></span><span st
	yle='font-family:"Segoe UI"\,sans-serif\;color:#242424'> <o:p></o:p></span
	></p></div><div style='margin-bottom:.25in'><div class=MsoNormal align=cen
	ter style='text-align:center'><span style='font-family:"Segoe UI"\,sans-se
	rif\;color:#242424'><hr size=1 width="100%" align=center></span></div></di
	v><div><div style='margin-bottom:4.5pt'><p class=MsoNormal><span class=me-
	email-text><b><span style='font-family:"Segoe UI"\,sans-serif\;color:#2424
	24'>Dial in by phone</span></b></span><span style='font-family:"Segoe UI"\
	,sans-serif\;color:#242424'> <o:p></o:p></span></p></div><div style='margi
	n-bottom:4.5pt'><p class=MsoNormal><span style='font-family:"Segoe UI"\,sa
	ns-serif\;color:#242424'><a href="tel:+16147212972\,\,356364381"><span sty
	le='font-size:10.5pt\;color:#5B5FC7'>+1 614-721-2972\,\,356364381#</span><
	/a> </span><span class=me-email-text><span style='font-size:10.5pt\;font-f
	amily:"Segoe UI"\,sans-serif\;color:#616161'>United States\, Columbus</spa
	n></span><span style='font-family:"Segoe UI"\,sans-serif\;color:#242424'> 
	<o:p></o:p></span></p></div><div style='margin-bottom:4.5pt'><p class=MsoN
	ormal><span style='font-family:"Segoe UI"\,sans-serif\;color:#242424'><a h
	ref="https://dialin.teams.microsoft.com/fd500fcf-3501-48c9-a727-e83e32f1d2
	95?id=356364381"><span style='font-size:10.5pt\;color:#5B5FC7'>Find a loca
	l number</span></a> <o:p></o:p></span></p></div></div><div style='margin-b
	ottom:.25in'><p class=MsoNormal><span class=me-email-text-secondary><span 
	style='font-size:10.5pt\;font-family:"Segoe UI"\,sans-serif\;color:#616161
	'>Phone conference ID: </span></span><span class=me-email-text><span style
	='font-size:10.5pt\;font-family:"Segoe UI"\,sans-serif\;color:#242424'>356
	 364 381#</span></span><span style='font-family:"Segoe UI"\,sans-serif\;co
	lor:#242424'> <o:p></o:p></span></p></div><div style='margin-bottom:4.5pt'
	><p class=MsoNormal><span class=me-email-headline><b><span style='font-fam
	ily:"Segoe UI"\,sans-serif\;color:#242424'>Join on a video conferencing de
	vice</span></b></span><span style='font-family:"Segoe UI"\,sans-serif\;col
	or:#242424'> <o:p></o:p></span></p></div><div style='margin-bottom:4.5pt'>
	<p class=MsoNormal><span class=me-email-text><span style='font-size:10.5pt
	\;font-family:"Segoe UI"\,sans-serif\;color:#616161'>Tenant key: </span></
	span><span class=me-email-text><span style='font-size:10.5pt\;font-family:
	"Segoe UI"\,sans-serif\;color:#242424'>682042763@t.plcm.vc</span></span><s
	pan style='font-family:"Segoe UI"\,sans-serif\;color:#242424'> <o:p></o:p>
	</span></p></div><div style='margin-bottom:4.5pt'><p class=MsoNormal><span
	 class=me-email-text-secondary><span style='font-size:10.5pt\;font-family:
	"Segoe UI"\,sans-serif\;color:#616161'>Video ID: </span></span><span class
	=me-email-text><span style='font-size:10.5pt\;font-family:"Segoe UI"\,sans
	-serif\;color:#242424'>119 931 949 7</span></span><span style='font-family
	:"Segoe UI"\,sans-serif\;color:#242424'> <o:p></o:p></span></p></div><div 
	style='margin-bottom:.25in'><p class=MsoNormal><span style='font-family:"S
	egoe UI"\,sans-serif\;color:#242424'><a href="https://dialin.plcm.vc/teams
	/?key=682042763&amp\;conf=1199319497" target="_blank"><span style='font-si
	ze:10.5pt\;color:#5B5FC7'>More info</span></a> <o:p></o:p></span></p></div
	><div><p class=MsoNormal><span class=me-email-text-secondary><span style='
	font-size:10.5pt\;font-family:"Segoe UI"\,sans-serif\;color:#616161'>For o
	rganizers: </span></span><span style='font-family:"Segoe UI"\,sans-serif\;
	color:#242424'><a href="https://teams.microsoft.com/meetingOptions/?organi
	zerId=cd941aef-17e7-4e1c-8ea4-8de53274beab&amp\;tenantId=50f8fcc4-94d8-4f0
	7-84eb-36ed57c7c8a2&amp\;threadId=19_meeting_MGVkNDVkZDYtMjc2YS00MzgxLWJjY
	WQtMTNjOTAyMWYwYzIz@thread.v2&amp\;messageId=0&amp\;language=en-US" target
	="_blank"><span style='font-size:10.5pt\;color:#5B5FC7'>Meeting options</s
	pan></a> </span><span style='font-family:"Segoe UI"\,sans-serif\;color:#D1
	D1D1'>|</span><span style='font-family:"Segoe UI"\,sans-serif\;color:#2424
	24'> <a href="https://dialin.teams.microsoft.com/usp/pstnconferencing" tar
	get="_blank"><span style='font-size:10.5pt\;color:#5B5FC7'>Reset dial-in P
	IN</span></a> <o:p></o:p></span></p></div><div style='margin-top:.25in\;ma
	rgin-bottom:4.5pt'><div><p class=MsoNormal><span style='font-size:10.5pt\;
	font-family:"Segoe UI"\,sans-serif\;color:#616161'>The State of Ohio is a 
	disability inclusion state. We promote access to our meetings and training
	s. To request a reasonable accommodation due to a disability\, please use 
	the Help link to contact the ADA Coordinator for the scheduling agency.<o:
	p></o:p></span></p></div></div><div style='margin-bottom:.25in'><p class=M
	soNormal><span style='font-family:"Segoe UI"\,sans-serif\;color:#242424'><
	a href="https://das.ohio.gov/employee-relations/diversity-equity-and-inclu
	sion/ADA-coordinators-directory" target="_blank"><span style='font-size:10
	.5pt\;color:#5B5FC7'>Org help</span></a> <o:p></o:p></span></p></div><div 
	style='margin-bottom:.25in\;overflow:hidden'><p class=MsoNormal><span styl
	e='font-family:"Segoe UI"\,sans-serif\;color:#242424'>____________________
	____________________________________________________________<o:p></o:p></s
	pan></p></div></div><p class=MsoNormal><span style='font-size:11.0pt'><o:p
	>&nbsp\;</o:p></span></p></div></body></html>
X-MICROSOFT-CDO-BUSYSTATUS:BUSY
X-MICROSOFT-CDO-IMPORTANCE:1
X-MICROSOFT-DISALLOW-COUNTER:FALSE
X-MS-OLK-APPTSEQTIME:20250710T154215Z
X-MS-OLK-AUTOFILLLOCATION:FALSE
X-MS-OLK-CONFTYPE:0
BEGIN:VALARM
TRIGGER:-PT15M
ACTION:DISPLAY
DESCRIPTION:Reminder
END:VALARM
END:VEVENT
END:VCALENDAR
